BEGIN:VCALENDAR
VERSION:2.0
PRODID:-//BPW Switzerland//NONSGML kigkonsult.se iCalcreator 2.16.12//
METHOD:PUBLISH
X-MS-OLK-FORCEINSPECTOROPEN:TRUE
BEGIN:VEVENT
UID:20260422T101229CEST-3368vXONuc@BPW Switzerland
DTSTAMP:20260422T081229Z
DESCRIPTION:\nEinführungsreferat von Petra Aeberhard\,\nGeschäftsstellenlei
 terin UBS Davos\n\n\n\nVon Rekordverlusten bis zur Rückkehr in die Gewinnz
 one\nVon Missmanagement bis wieder zurück zu einer nachhaltigen Strategie\
 , klaren Werten und Standards\n \nMittwoch\, 15. Juni 2011\, 19.00 Uhr\, i
 n Kramers Wine & Design\n\n\nProgramm\n19.00 Uhr\nTreffpunkt und Apéro\, o
 fferiert von Petra\n19.30 Uhr\nEinführungsreferat\n20.30 Uhr\nEssen\n \nMe
 nu\nBuffet (Catering) mit vegetarischer Kost\, Fleisch und Fisch\, vom Teu
 felssalat\, Avocadotatar\, Crêpes\, Kartoffeltätschli\, Spargelspitzen bis
  zum Lollipop vom Rindfleisch\nCHF 25 pro Person\nGetränke individuell\n 
 \nKosten\nDer Anlass selbst ist kostenlos. Essen und Getränke gehen zu Las
 ten der Teilnehmenden und werden direkt vor Ort in bar beglichen.\n \nAnme
 ldung\nAnmeldung bis am Montag\, 13. Juni 2011\,\nüber den Anmeldedoodle\,
  per Mail an Elsbeth Kluker\noder Tel. 081 413 10 53 oder Fax 081 413 21 1
 3\nAnmeldedoodle\n
DTSTART:20110615T190000
DTEND:20110615T220000
LOCATION:Kramers Wine & Design\, Davos  
ORGANIZER:MAILTO:BPW Switzerland <davos@bpw.ch>
SUMMARY:UBS - Der Weg zurück
END:VEVENT
END:VCALENDAR
