BEGIN:VCALENDAR
VERSION:2.0
PRODID:-//BPW Switzerland//NONSGML kigkonsult.se iCalcreator 2.16.12//
METHOD:PUBLISH
X-MS-OLK-FORCEINSPECTOROPEN:TRUE
BEGIN:VEVENT
UID:20260422T113528CEST-8211bwUk2g@BPW Switzerland
DTSTAMP:20260422T093528Z
DESCRIPTION:\nmit Marie-Theres Jenni\nBPW Rheintal\, Webdesignerin\nwww.j-m
 edia.ch\n \n\nDie sechs bekannten Internet-Tools schon mal ausprobiert?\nW
 ir fragen konkret: Was können diese Tools? Wozu könnte ich sie brauchen? W
 ie richte ich sie ein? Worauf muss ich achten?\nDieser Abend dient dazu\, 
 ein Streiflicht darauf zu werfen und die Hemmschwelle abzubauen. Es ist ei
 ne Kurzeinführung mit Blick auf die Praxis.\nJede Besucherin erhält ein Ha
 ndout mit den Informationen.\n\n… und plötzlich ist das Internet etwas Pra
 ktisches!\n\n\nMittwoch\, 29. Juni 2011\, 19.00 Uhr\nAlterszentrum Guggerb
 ach Davos\, Seminarraum\nObere Strasse 20\, 7270 Davos Platz\n\nProgramm\n
 19.00 Uhr\nWorkshop\n20.30 Uhr\, ca.\nEssen im Bistro Guggerzyt\n\nMenu\nP
 oulet-Ananas-Spiess oder\nTofu-Gemüsespiess\nmit Currysauce\nOrangenreis u
 nd Chinagemüse\nHimbeerschnitte mit Rahmrosette\nCHF 25 pro Person\nGeträn
 ke individuell\n\nKosten\nDer Anlass selbst ist kostenlos. Essen und Geträ
 nke gehen zu Lasten der Teilnehmenden und werden direkt vor Ort in bar beg
 lichen.\n \nAnmeldung\nAnmeldung bis am Montag\, 27. Juni 2011\,\nüber den
  Anmeldedoodle\, per Mail an Elsbeth Kluker\noder Tel. 081 413 10 53 oder 
 Fax 081 413 21 13\nAnmeldedoodle\n
DTSTART:20110629T190000
DTEND:20110629T220000
LOCATION:Davos Platz\, Guggerbach
ORGANIZER:MAILTO:BPW Switzerland <davos@bpw.ch>
SUMMARY:Picnik - Twitter - Skype: Nutzen oder Hype?
END:VEVENT
END:VCALENDAR
