BEGIN:VCALENDAR
VERSION:2.0
PRODID:-//BPW Switzerland//NONSGML kigkonsult.se iCalcreator 2.16.12//
METHOD:PUBLISH
X-MS-OLK-FORCEINSPECTOROPEN:TRUE
BEGIN:VEVENT
UID:20260422T112702CEST-2796GuzjV2@BPW Switzerland
DTSTAMP:20260422T092702Z
DESCRIPTION: \n\n\n\n\n \n\nAm 15. Juli 2011 sind die bpw@promenade ... wo 
 denn sonst!\n\nbpw@promenade\nmit italienischem Flair -  Prosecco - Bellin
 i - Foccacia!\n\nbpw@promenade\nmit der Wahrsagerin Josi einen Blick auf d
 ie Zukunft erhaschen!\n\nbpw@promenade\nein Ort der Begegnung\, zum Sehen 
 und Gesehenwerden\, zum Verweilen und Geniessen.\n\nbpw@promenade\nvor Ele
 ktro Caviezel an der Promenade 48\n \nAm 15. Juli 2011 sind die bpw@promen
 ade ... wo denn sonst!\n \n\nTeam am Cüplistand\nWer sich im Team am Cüpli
 stand als Gastgeberin betätigen möchte\, melde sich bitte bei Gabi Sievi:
 \n\n\n	über den Doodle\n	über Mail oder\n	an den Clubabenden persönlich\n\nCü
 pli-Gutscheine können per Mail bestellt werden.\n\nAnmeldedoodle fürs Prom
 enadenteam\n \n
DTSTART:20110715T180000
DTEND:20110715T230000
LOCATION:Davos Platz\, vor Elektro Caviezel
ORGANIZER:MAILTO:BPW Switzerland <davos@bpw.ch>
SUMMARY:bpw@promenade
END:VEVENT
END:VCALENDAR
