BEGIN:VCALENDAR
VERSION:2.0
PRODID:-//BPW Switzerland//NONSGML kigkonsult.se iCalcreator 2.16.12//
METHOD:PUBLISH
X-MS-OLK-FORCEINSPECTOROPEN:TRUE
BEGIN:VEVENT
UID:20260422T112634CEST-3353i971cP@BPW Switzerland
DTSTAMP:20260422T092634Z
DESCRIPTION:Einladung zum Clubabend in der Reihe THEMA\nIdee und Gestaltung
 : Astrid Heinrich\nMittwoch\, 14. September 2011\, 19.00 Uhr\n\n\n\nWas br
 aucht es alles\, bis eine Ausstellung im Museum eröffnet werden kann? Geht
  es dabei nur darum\, die Bilder zu hängen\, oder steckt mehr dahinter? Wi
 e viele Schritte es tatsächlich braucht von der Idee bis zur Vernissage\, 
 darüber informiert Dr. Karin Schick\, Kuratorin des Kirchner Museum Davos.
 \n\nProgramm\n19.00 Uhr\nReferat Dr. Karin Schick im Kirchner Museum Davos
 \n20.30 Uhr\nEssen im Restaurant Extrablatt beim Kongresszentrum\n\nMenu\n
 Schweizer Pouletbrust „Seramis“\nLimetten-Basmatireis und Wokgemüse\n***\n
 Kokosschnitte mit Apfelsorbet\n\noder\n\nSellerie Cordon bleu mit Limetten
 salsa und Kräutersalat\nGlasiertes Gemüse und junge Kartoffeln\n***\nKokos
 schnitte mit Apfelsorbet\n\nCHF 25 pro Person\, Getränke separat\n\n\nKost
 en\nDer Anlass selbst ist kostenlos. Essen und Getränke gehen zu Lasten de
 r Teilnehmerinnen.\n\nAnmeldung\nbis Montag\, 12. September 2011\nüber den
  Anmeldedoodle\noder an Elsbeth Kluker\, Mühlestrasse 3A\, 7260 Davos Dorf
 \nTel. 081 413 10 53\, Fax 081 413 21 13\nAnmeldedoodle\n\n \n
DTSTART:20110914T190000
DTEND:20110914T220000
LOCATION:Davos\, Kirchner Museum und Rest. Extrablatt
ORGANIZER:MAILTO:BPW Switzerland <davos@bpw.ch>
SUMMARY:Wie man eine Ausstellung baut
END:VEVENT
END:VCALENDAR
