BEGIN:VCALENDAR
VERSION:2.0
PRODID:-//BPW Switzerland//NONSGML kigkonsult.se iCalcreator 2.16.12//
METHOD:PUBLISH
X-MS-OLK-FORCEINSPECTOROPEN:TRUE
BEGIN:VEVENT
UID:20260422T114259CEST-08616fttjM@BPW Switzerland
DTSTAMP:20260422T094259Z
DESCRIPTION:Einführungsreferat von Ruth Altermatt\nund\nausserordentliche M
 itgliederversammlung gemäss Einladung vom 13. September 2011\n\nMittwoch\,
  9. November 2011\, 19.00 Uhr\, Shima-Zentrum Davos Dorf\n\n\n\nWas haben 
 Geld und Herz gemeinsam? Kann man Zahlen mit dem Herzen lesen? Wie viel Ge
 ld macht glücklich resp. unglücklich? Welche Gefühle verbinden wir mit Gel
 d?\n\nDas Einführungsreferat von Ruth Altermatt\, Geschäftsführerin Shima 
 Zentrum Davos und ehemalige Financial Manager IKEA International\, will Lu
 st machen\, die eigenen Glaubenssätze zu erforschen\, einen Blick in die F
 ülle des Lebens zu werfen und auch über die Welt des Geldes von Herzen zu 
 schmunzeln.\n\n\nProgramm \n19.00 Uhr Referat Ruth Altermatt mit Apéro\n20
 .30 Uhr Essen im Shima Zentrum\n\nAnschliessend a.o. Mitgliederversammlung
  gemäss Einladung vom 13.09.2011.\nTraktandum: Herbstkonferenz 2012\n\nMen
 u \nAmerikanisches Buffet „Erntedank“\nCHF 25 pro Person\, Getränke separa
 t\n\nKosten \nDer Anlass selbst ist kostenlos. Der Apéro wird von Ruth Alt
 ermatt offeriert. Essen und Getränke gehen zu Lasten der Teilnehmerinnen.
 \n\nAnmeldung \nbis Montag\, 7. November 2011\nmit nebenstehendem Anmelded
 oodle\noder an Elsbeth Kluker\nTel. 081 413 10 53\nFax 081 413 21 13\nMühl
 estrasse 3A\, 7260 Davos Dorf\nAnmeldedoodle\n
DTSTART:20111109T190000
DTEND:20111109T220000
LOCATION:Shima-Zentrum\, Davos
ORGANIZER:MAILTO:BPW Switzerland <davos@bpw.ch>
SUMMARY:Geld und Herz
END:VEVENT
END:VCALENDAR
