BEGIN:VCALENDAR
VERSION:2.0
PRODID:-//BPW Switzerland//NONSGML kigkonsult.se iCalcreator 2.16.12//
METHOD:PUBLISH
X-MS-OLK-FORCEINSPECTOROPEN:TRUE
BEGIN:VEVENT
UID:20260422T114400CEST-1071FxwcEG@BPW Switzerland
DTSTAMP:20260422T094400Z
DESCRIPTION:Adventsfeier\n\n\nAnmeldedoodle\nAchtung\nAnmeldefrist ausnahms
 weise bereits Freitag\, 9.12.2011\n\nProgramm\n19.00 Uhr\nTreffpunkt und A
 péro beim Brunnen neben dem Restaurant Gotschna\n19.30 Uhr\nWeihnachtszaub
 er im Dörfli\n20.00 Uhr\nEssen im Restaurant Gotschna\n\nFestliches Menu\n
 Petersilienwurzelsuppe mit Lebkuchengewürz\nRindsschmorbraten an Orangen-I
 ngwer Sauce mit Saisongemüse und hausgemachtem Kartoffelgratin\nMit Marzip
 an und Rosinen gefüllter Bratapfel an Vanillesauce\nFr. 47.00\nVegimenu\nP
 etersilienwurzelsuppe mit Lebkuchengewürz\nWalser Gemüsekuchen 'Cholera'\n
 Mit Marzipan und Rosinen gefüllter Bratapfel an Vanillesauce\nFr. 45.00\n
 \nKosten\nDer Anlass selber ist kostenlos\; der Apéro wird vom Club offeri
 ert. Essen und Getränke gehen zu Lasten der Teilnehmenden und werden direk
 t vor Ort in bar beglichen.\n\nWeg\nWir organisieren Fahrgemeinschaften au
 fgrund der Angaben auf dem Anmeldedoodle. Für einen Mitfahrplatz zahlt die
  Mitfahrende der Fahrerin ab Davos 5.-.\nParkmöglichkeiten hinter dem Rest
 aurant Gotschna oder nebenan auf dem Volg-Parkplatz oder am Dorfeingang be
 im Schulhaus.\nAnmeldedoodle\nAn-/Abmeldung bis spätestens Freitag\, 9. De
 zember 2011\nüber den Anmeldedoodle\noder an Elsbeth Kluker oder 079 749 2
 5 27
DTSTART:20111214T190000
DTEND:20111214T220000
LOCATION:BPW Davos Klosters\, Rest. Gotschna\, Serneus
ORGANIZER:MAILTO:BPW Switzerland <davos@bpw.ch>
SUMMARY:Weihnachtszauber im Dörfli Serneus
END:VEVENT
END:VCALENDAR
