BEGIN:VCALENDAR
VERSION:2.0
PRODID:-//BPW Switzerland//NONSGML kigkonsult.se iCalcreator 2.16.12//
METHOD:PUBLISH
X-MS-OLK-FORCEINSPECTOROPEN:TRUE
BEGIN:VEVENT
UID:20260422T102313CEST-8973xmt8XT@BPW Switzerland
DTSTAMP:20260422T082313Z
DESCRIPTION:Die Tickets bei BPW Davos Klosters sind ausverkauft.\n\nFreilic
 htspiele Klosters\n\nDie Siebtelbauern\n\nWir besuchen gemeinsam die Vorst
 ellung vom\nFreitag\, 12. August 2011\, Vorstellungsbeginn 20 Uhr.\n\nAlle
  Informationen sind auf der Einladung im Anhang zu finden (pdf zum Downloa
 d).\n \nRahmenprogramm\nWanderer \nRhB Davos Platz ab 17.02h\, Dorf ab 17.
 05h\, oder gemeinsame Fahrt mit Autos\, organisiert gem. Anmeldungen.\nAbm
 arsch 17.30h\, Bahnhof Klosters Platz\, vor Billettschalter Wanderung ca. 
 1 ¼ h\, Leitung Françoise Stahel\nNichtwanderer \nAbfahrt 18.15h Unold-Par
 kplatz Davos Platz\, gemeinsame Fahrt gem. Anmeldungen\, dann Treffpunkt 1
 9.00h\,\nFesthütte im Wasen\, Auji\, Klosters Serneus\nProgramm \nWanderer
  und Nichtwanderer treffen sich in der Festhütte beim Freilichtspielort im
  Wasen\, Auji\, in Klosters Serneus am für BPW Davos Klosters reservierten
  Tisch zu einem Drink oder zum Essen. Menus: Bratwurst\, Cervelats oder Sc
 hnitzelbrot (keine Vorbestellung möglich)\,\nanschliessend gemeinsamer The
 aterbesuch\nKosten \nDie Tickets kosten pro Platz CHF 40.-\nBestellung übe
 r Webseite BPW Davos Klosters in limitierter Anzahl möglich\, auch für Beg
 leitende. Tickets werden in der Festhütte übergeben.\nSpäter sind Tickets 
 nur noch über den offiziellen Verkauf zu beziehen.\nEssen und Getränke ind
 ividuell.\nSpezielles\nDie Veranstaltung findet bei jedem Wetter statt\; d
 ie Sitzplätze sind unter Dach\, warme Kleider nach individuellem Bedürfnis
  sind mitzunehmen.\nBei kritischem Wetter werden die dafür Angemeldeten üb
 er die Durchführung der Wanderung informiert.\nMitteilung des Veranstalter
 s \nNach der Vorstellung fährt das Gotschnataxi für CHF 5.– p.P. die Besuc
 her retour nach Klosters (zB Bahnhof). Bitte bis zur Pause an der Abendkas
 se anmelden.\n \nBPW-Tickets\n1. Kategorie à CHF 40.-\, gedeckte und numme
 rierte Sitzplätze.\nBPW Davos Klosters hat eine limitierte Anzahl Tickets 
 gekauft.\nVerkauf ab sofort über den Link 'Tickets': Anzahl bestellen und 
 den Gesamtbetrag der Bestellung einzahlen auf Konto Nr. 0209 866000 40M\, 
 lautend auf BPW Davos Klosters\, 7270 Davos Platz\, bei der UBS\, Davos Pl
 atz\, IBAN CH69 0020 9209 8660 0040 M\nDie Tickets werden vor der Vorstell
 ung abgegeben\, und zwar im Festzelt\, wo wir als Treffpunkt einen BPW-Tis
 ch reserviert haben.\nBestellung ab sofort möglich\, first come - first se
 rved.\nTickets bei BPW Davos Klosters bestellen\n\n \n\nAnmeldung\nBis Mon
 tag\, 8. August 2011\, über den Anmeldedoodle\noder an Elsbeth Kluker\, Mü
 hlestrasse 3A\, 7260 Davos Dorf\nTel. 081 413 10 53\, Fax 081 413 21 13\nA
 nmeldedoodle\n
DTSTART:20110812T160000
DTEND:20110812T220000
LOCATION:Freilichtspiele Klosters-Serneus
ORGANIZER:MAILTO:BPW Switzerland <davos@bpw.ch>
SUMMARY:Sommerhappening
END:VEVENT
END:VCALENDAR
