BEGIN:VCALENDAR
VERSION:2.0
PRODID:-//BPW Switzerland//NONSGML kigkonsult.se iCalcreator 2.16.12//
METHOD:PUBLISH
X-MS-OLK-FORCEINSPECTOROPEN:TRUE
BEGIN:VEVENT
UID:20260422T112645CEST-1444vdzvxm@BPW Switzerland
DTSTAMP:20260422T092645Z
DESCRIPTION:Kurs 2011-1\n\n\n\n\n\n Digitalfotos bearbeiten und verwalten m
 it Picasa (für Einsteiger)\n\nDie digitale Fotografie verführt geradezu zu
  einer fast unermesslichen Bilderflut. Gut beraten ist\, wer gleich zu Beg
 inn Ordnung in seine Bilddateien bringt. Mit dem kostenlosen Programm Pica
 sa können die Digitalfotos auf dem PC verwaltet und bearbeitet werden. \nP
 C-Grundkenntnisse werden vorausgesetzt.\nEigene Laptops sind mitzubringen\
 , (wenn möglich) mit Kabel für den Internetanschluss! \n\n\n\n\n    \n    
     \n            Kursleiterin\n            Marie-Theres Jenni\, BPW Rhein
 tal\n            Webdesignerin J-Media\, Au SG\n        \n        \n      
       Teilnehmerinnen\n            nur für BPW\n        \n        \n      
       Datum\n            8. August 2011\, 19 bis 21 Uhr\n            Kursa
 bend 1\n            Lerninhalte 1-4\n        \n        \n             \n  
           auf Wunsch:\n            15. August 2011\, 19 bis 21 Uhr\n      
       Kursabend 2\n            Lerninhalte 5-9\n        \n        \n      
       Ort\n            Hotel Strela\, Davos Platz\, Seminarraum\n        
 \n        \n            Kurskosten\n            Das Kursgeld versteht sich
  pro 1 Kursabend.\n            CHF 90.00 (bei 10 Teilnehmerinnen\; bei wen
 iger Teilnehmerinnen erhöht sich das Kursgeld)\n        \n        \n      
       Anmeldung\n            Der Kurs ist ausgebucht.\n        \n        
 \n            Bedingungen\n            Die Anmeldung ist verbindlich. \n  
           Mitteilung über die definitive Durchführung erfolgt Ostern 2011 
 (Mindestteilnehmerinnenzahl). Bei zu geringer Teilnehmerinnenzahl wird der
  Kurs ohne Kostenfolge für den Club nicht durchgeführt.\n            Mit d
 er Mitteilung der definitiven Durchführung werden die Kurskosten fällig.\n
             Bei Abmeldungen nach Einzahlung der Kursgebühr besteht kein An
 spruch auf  Rückzahlung der Gebühren\; der Club zahlt die Gebühren zurück\
 , wenn der  Kursplatz neu besetzt werden kann.\n        \n    \n\n \nKursi
 nhalt\n\n\n1. Picasa installieren\n\n\n    Picasa gratis herunterladen\n  
    Vorhandene Bilder in Picasa integrieren\n\n2. Bilder in Picasa organisi
 eren\n\n\n    Erstellen von Alben / Ordnern / Sammlungen\n     Bilder / Or
 dner ein oder ausschalten\n    \n     Bilder / Ordner mit Stichworte verse
 hen\n    \n     Bilder von einer Kamera importieren\n\n3. Bilder in Picasa
  ansehen\n\n\n    Bildersuche\n     Verschiedene Ansichten\n    \n     sor
 tieren nach Datum / Namen / Grösse\n\n4. Bilder in Picasa bearbeiten\n\n\n
     zuschneiden\, rote Augen korrigieren\, Helligkeit ändern\n     Text in
  Bild einfügen\, retuschieren\, drehen\, Effekte \n    \n     Grösse verän
 dern\n\n5. Bilder ausgeben\n\n\n    drucken\n     auf Datenträger exportie
 ren\n    \n     Abzüge bestellen\n\n6. Kreationen erstellen\n\n\n    Colla
 ge\n     Diaschau / Film\n    \n     Poster erstellen\n\n7. Bilder veröffe
 ntlichen\n\n\n    Bilder gratis ins Internet stellen\n     Bilder per E-Ma
 il verschicken\n\n8. Datensicherung\n9. Picnik kennenlernen
DTSTART:20110808T190000
DTEND:20110808T210000
LOCATION:Davos Platz\, Hotel Strela\, Seminarraum
ORGANIZER:MAILTO:BPW Switzerland <davos@bpw.ch>
SUMMARY:Picasa-Kurs
END:VEVENT
END:VCALENDAR
