BEGIN:VCALENDAR
VERSION:2.0
PRODID:-//BPW Switzerland//NONSGML kigkonsult.se iCalcreator 2.16.12//
METHOD:PUBLISH
X-MS-OLK-FORCEINSPECTOROPEN:TRUE
BEGIN:VEVENT
UID:20260422T101229CEST-6260fVcGx3@BPW Switzerland
DTSTAMP:20260422T081229Z
DESCRIPTION:Kurs 2011-2\n\n\n\n\n\nMit Google Sites eine Webseite erstellen
  (für Einsteigerinnen)\n\nGoogle Sites ist ein einfaches\, kostenloses\, a
 ber doch vielseitiges  Werkzeug\, um Webseiten zu erstellen. Layoutmotive 
 werden zur Verfügung  gestellt\, können in gewissem Grade aber auch indivi
 duell angepasst  werden. Die Webseiten können allgemein öffentlich zur Ans
 icht gestellt  werden\, geteilt und gemeinsam bearbeitet und per Passwort 
  abgeschlossen werden. Google stellt zudem Gadgets zur Verfügung\, die in 
  die Webseiten integriert werden können.\nPC-Grundkenntnisse werden voraus
 gesetzt.\nDer Kurs wird im Schulungsraum auf den PC der Berufsschule Davos
  durchgeführt.\n\n\n\n\n    \n        \n            Kursleiterin\n        
     Ursula Schmid\, BPW Davos Klosters\n            Webmaster BPW Davos Kl
 osters (Key User)\, Google Userin\n        \n        \n            Teilneh
 merinnen\n            nur für BPW\n        \n        \n            Datum\n
             22. August 2011\, 19 bis 21 Uhr\n            Kursabend 1\n    
         Lerninhalte 1-3\n        \n        \n             \n            29
 . August 2011\, 19 bis 21 Uhr\n            Kursabend 2\n            Lernin
 halte 4-6\n        \n        \n            Ort\n            Berufsschulhau
 s Davos\n        \n        \n            Kurskosten\n            CHF 100.0
 0 \n            Der Kurs wird bei Anmeldung von mind. 6 bis max. 10 Teilne
 hmerinnen durchgeführt.\n        \n        \n            Anmeldung\n      
       Der Kurs ist ausgebucht.\n        \n        \n            Bedingunge
 n\n            Die Anmeldung ist verbindlich. \n            Mitteilung übe
 r die definitive Durchführung erfolgt Ostern 2011 (Mindestteilnehmerinnenz
 ahl). Bei zu geringer Teilnehmerinnenzahl wird der Kurs ohne Kostenfolge f
 ür den Club nicht durchgeführt.\n            Mit der Mitteilung der defini
 tiven Durchführung werden die Kurskosten fällig.\n            Bei Abmeldun
 gen nach Einzahlung der Kursgebühr besteht kein Anspruch auf  Rückzahlung 
 der Gebühren\; der Club zahlt die Gebühren zurück\, wenn der  Kursplatz ne
 u besetzt werden kann.\n        \n    \n\n \nLerninhalte\n\nKursabend 1\n
 \n1. Google Konto\n\n    Konto erstellen\, wenn noch nicht vorhanden\n    
 Kurzüberblick\n\n\n2. Google Sites\n\n    auffinden\n    Seite anlegen\n  
   Motive durchsehen\, auswählen\n\n\n3. Werkzeuge\n\n    Layout anpassen\n
     Seitenarten kennenlernen\n    weitere Seiten erstellen\n    Freigeben
 \n    Bilder einfügen\n\n\n\nKursabend 2\n\n4. Domain\n\n    Gratisdomain 
 erstellen\n\n\n5. Weitere Werkzeuge\n\n    Album\n    Textfeld\n    Weiter
 e Gadgets\n\n\n6. Individuelle Arbeit\n\n    Arbeit an der eigenen Webseit
 e\n    Individuelle Fragen\n\n\n 
DTSTART:20110822T190000
DTEND:20110822T210000
LOCATION:Davos Platz\, Hotel Strela\, Seminarraum
ORGANIZER:MAILTO:BPW Switzerland <davos@bpw.ch>
SUMMARY:Meine erste Webseite
END:VEVENT
END:VCALENDAR
