BEGIN:VCALENDAR
VERSION:2.0
PRODID:-//BPW Switzerland//NONSGML kigkonsult.se iCalcreator 2.16.12//
METHOD:PUBLISH
X-MS-OLK-FORCEINSPECTOROPEN:TRUE
BEGIN:VEVENT
UID:20260422T103056CEST-8554EcH0WV@BPW Switzerland
DTSTAMP:20260422T083056Z
DESCRIPTION:\nFrauen und Macht\n\nMacht ist für viele Frauen ein ambivalent
 es Thema - und mächtige Frauen lösen in der Gesellschaft ambivalente Gefüh
 le aus. Dabei ist Macht per se weder gut noch schlecht: Es kommt drauf an\
 , was Sie draus machen. Wie ist Ihr persönliches Verhältnis zur Macht?\n\n
 Unabhängig davon\, auf welchem Parkett Sie sich hauptsächlich bewegen - in
  Wirtschaft oder Politik\, Gesellschaft oder Privatleben\, in grossen oder
  kleinen Organisationen\, als Mitarbeiterin oder als Führungskraft\, im Pr
 ofit- oder im Non-Profit-Bereich. Sie sind ständig von Macht umgeben\, wen
 den Sie selbst an oder sind ihr ausgesetzt.\n\nErfahren Sie mehr über die 
 Mechanismen der Macht\, auch vor dem Hintergrund geschichtlicher Entwicklu
 ngen und „typischer' Geschlechterrollen sowie den damit verbundenen ethisc
 hen Fragestellungen.\n\nChristine Bauer-Jelinek ist eine ausgewiesene Expe
 rtin: Sie leitet das Institut für Machtkompetenz in Wien und publiziert se
 it Jahren zum Thema. Sie wird uns an der Herbstkonferenz in die Geheimniss
 e der Macht einführen und aufzeigen\, wie wir Machtspiele identifizieren u
 nd uns dagegen wehren können\, wie wir unsere Interessen vertreten und uns
 ere Ziele erreichen\, ohne unsere Werte zu verraten.\n\nProgrammablauf\n10
 :00                ausserordentliche DV BPW Switzerland\n10:30            
     Herbstkonferenz\n12:30                Mittagessen\n14:00              
   Frauen und Macht\n19:00                Gala-Abend\n\nDer Einladungsflyer
  steht im Anhang zum Download zur Verfügung.\n\nAnmeldungen sind ab sofort
  möglich.\nDie Anmeldung erfolgt über die Webseite von BPW Switzerland.\n
DTSTART:20111105T090000
DTEND:20111105T170000
LOCATION:Bern
ORGANIZER:MAILTO:BPW Switzerland <davos@bpw.ch>
SUMMARY:Herbstkonferenz und a.o. DV 5. November 2011 in Bern
END:VEVENT
END:VCALENDAR
