BEGIN:VCALENDAR
VERSION:2.0
PRODID:-//BPW Switzerland//NONSGML kigkonsult.se iCalcreator 2.16.12//
METHOD:PUBLISH
X-MS-OLK-FORCEINSPECTOROPEN:TRUE
BEGIN:VEVENT
UID:20260422T102242CEST-9432JiT7OW@BPW Switzerland
DTSTAMP:20260422T082242Z
DESCRIPTION:\n\n\n\n\nLiebe Young BPW\n\nEs ist soweit\, der nächste Regio 
 Stammtisch steht vor der Türe. In lockerer\nAtmosphäre diskutieren wir übe
 r aktuelle Themen\, Erfahrungen\nund was uns gerade bewegt ... ein netter 
 Abend mit ungezwungenem Networking!\n\nDer 2. regionale Young BPW Stammtis
 ch findet statt\n\nam Dienstag\, 31. Mai 2011\, ab 19.00 Uhr\nim Münz\, Mü
 nzplatz 3\, 8001 Zürich (www.muenz.ch)\n\nAnmeldungen und Feedback bitte d
 irekt an susanne.tiedtke@bpw.ch.\nWir freuen uns auf einen schönen Abend i
 n Zürich mit Euch.\n\n\nYoung BPW Stammtisch – Denkanstöße\, Erfahrungen\,
  Methoden und Best Practice!\n\nDer Young BPW Stammtisch richtet sich an a
 lle Frauen\, BPW und\nInteressentinnen\, bis 35 Jahre. Aber auch alle ande
 ren\, die an unseren\nThemen interessiert sind\, sind jederzeit herzlich w
 illkommen.\n\n\nSusanne Tiedtke\nMember of the Central Board\nBusiness & P
 rofessional Women Switzerland\nDivision Young BPW\nTel: +41 78 625 19 48 
DTSTART:20110531T190000
DTEND:20110531T220000
LOCATION:im Münz\, Zürich
ORGANIZER:MAILTO:BPW Switzerland <davos@bpw.ch>
SUMMARY:Young BPW Regio-Stammtisch
END:VEVENT
END:VCALENDAR
