BEGIN:VCALENDAR
VERSION:2.0
PRODID:-//BPW Switzerland//NONSGML kigkonsult.se iCalcreator 2.16.12//
METHOD:PUBLISH
X-MS-OLK-FORCEINSPECTOROPEN:TRUE
BEGIN:VEVENT
UID:20260422T102315CEST-5738rVVCwp@BPW Switzerland
DTSTAMP:20260422T082315Z
DESCRIPTION:Erfolgreiche Modelle zur Vereinbarkeit von Beruf und Familie.\n
 \nAuch heute sehen sich viele Frauen immer noch mit einer scheinbar überho
 lten Frage konfrontiert: Kind oder Karriere? Natürlich\, es hat Fortschrit
 te gegeben. In jungen\, modernen Familien scheinen Frau und Mann zunehmend
  gleichberechtigt und flexibel in der Gestaltung ihres individuellen Leben
 smodells. Schauen wir jedoch genau hin\, wird deutlich\, dass es leider im
 mer noch beachtliche Hindernisse auf dem Weg zur Verwirklichung unserer Vo
 rstellungen gibt: Vorurteile der Gesellschaft\, unflexible Arbeitgeber\, V
 ersäumnisse der Politik … und manchmal stehen wir uns auch selber im Weg.
 \n\nAn diesem Wochenende setzen wir uns damit auseinander\, was wir eigent
 lich wirklich wollen und wie wir es erreichen können. Wir lernen erfolgrei
 che „Work-Family-Balance“ Modelle kennen und erfahren\, wie wir unsere per
 sönlichen Vorstellungen umsetzen können.\n\n\n    \n        \n            
 Wann\n             \n        \n        \n            Freitag\, 30. Septemb
 er 2011\, 18.30 Uhr\, open end\n            Samstag\, 1. Oktober 2011\, 10
 .00 Uhr bis 17.00 Uhr\n             \n        \n        \n            Wo\n
              \n        \n        \n            Hotel Krone Unterstrass\, S
 chaffhauserstrasse 1\, 8006 Zürich\n             \n        \n        \n   
          Programm\n        \n        \n            Freitag\, 30. September
  2011\n        \n        \n            ab 18.30 Uhr\n            Eintreffe
 n und Registrierung\n        \n        \n            19.00 - 20.30 Uhr\n  
           Work-Life-Balance als Schlüssel zur wahren Vereinbarkeit von Ber
 uf und Familie!\n            Franziska Bischof-Jäggi\, Familienmanagement 
 GmbH\n        \n        \n            20.30 Uhr\n            Netzwerk-Apér
 o\n        \n        \n            ab ca. 21.30 Uhr\n            Young BPW
  'Girls Night Out' in Zürich\n             \n        \n        \n         
    Samstag\, 1. Oktober 2011\n        \n        \n            ab 10.00 Uhr
 \n            Registrierung und Willkommenskaffee\n        \n        \n   
          10.15 - 10.30 Uhr\n            Begrüssung\n        \n        \n  
           10.30 - 12.00 Uhr\n            Erfolgreiche Karriere und gute Mu
 tter? Frauen berichten von ihren Erfahrungen und individuellen Lebensmodel
 len.\n            Podiumsdiskussion\, moderiert von Susanne Tiedtke\n     
    \n        \n            12.00 - 13.30 Uhr\n            Lunch\n        
 \n        \n            13.30 - 16.45 Uhr\n            Der Weg zum individ
 uellen 'Work-Family-Balance-Modell'. Was will ich wirklich und wie kann ic
 h es umsetzen?\n            Corinne E. Sutter\, Seminare & Coaching\n     
        inkl. 30 Min. Kaffeepause\n        \n        \n            16.45 - 
 17.00 Uhr\n            Abschluss und Verabschiedung\n        \n    \n\n\n
 \n\n    \n        \n            Tagungspauschale\n            \n        \n
         \n            Freitag (inkl. Getränke und Häppchen)\n        \n   
      \n            BPW Mitglieder CHF 40\, Interessentinnen/Nicht-Mitglied
 er CHF 50\n        \n        \n            Studierende CHF 30 (bitte Legi 
 Kopie)\n             \n        \n        \n            Samstag (inkl. 2 Ka
 ffeepausen und Lunch mit Getränken)\n        \n        \n            BPW M
 itglieder CHF 150\, Interessentinnen/Nicht-Mitglieder CHF 170\n        \n 
        \n            Studierende CHF 100 (bitte Legi Kopie)\n             
 \n        \n        \n            Freitag und Samstag (inkl.Verpflegung\, 
 ausser Night Out)\n        \n        \n            BPW Mitglieder CHF 160\
 , Interessentinnen/Nicht-Mitglieder CHF 190\n        \n        \n         
    Studierende CHF 110 (bitte Legi Kopie)\n        \n        \n           
   \n        \n    \n\n\nAnmeldungen\nAnmeldungen sind verbindlich. Nach de
 iner Anmeldung senden wir dir eine Rechnung zu. Abmeldungen bis zum 31. Au
 gust 2011 sind kostenlos\, bis 15. September 2011 wird eine Gebühr von CH
 F 30 fällig\; bei Abmeldung nach dem 15. September 2011 (oder fehlender Ab
 meldung) ist die gesamte Teilnehmergebühr fällig.\nAnmeldung
DTSTART:20110930T183000
DTEND:20111001T183000
LOCATION:Zürich\, Hotel Krone Unterstrass
ORGANIZER:MAILTO:BPW Switzerland <davos@bpw.ch>
SUMMARY:Karriereknick oder Rabenmutter? Young BPW Weekend
END:VEVENT
END:VCALENDAR
