BEGIN:VCALENDAR
VERSION:2.0
PRODID:-//BPW Switzerland//NONSGML kigkonsult.se iCalcreator 2.16.12//
METHOD:PUBLISH
X-MS-OLK-FORCEINSPECTOROPEN:TRUE
BEGIN:VEVENT
UID:20260422T115106CEST-7125RC2Jos@BPW Switzerland
DTSTAMP:20260422T095106Z
DESCRIPTION:\n\n\n\n\n\nLiebe BPW\n\nSpitzenereignisse sollten mit Spitzene
 reignissen gefeiert werden. 60 Jahre BPW St. Gallen-Appenzell sind doch wa
 hrlich ein Grund\, alles ein wenig auf die Spitze zu treiben.\nDeshalb lad
 en wir dich sehr herzlich zu unserem Jubiläumsanlass in St. Gallen ein. La
 ss uns gemeinsam anstossen! Wir freuen uns\, wenn auch du dabei bist.\n\nD
 as Textilmuseum St.Gallen beherbergt eine der weltweit bedeutendsten Spitz
 ensammlungen\, die von den hiesigen Textilern aus ganz Europa und Übersee 
 zusammengetragen worden ist. Mit StGall wird dieses Kulturgut erstmals in 
 einer umfassenden\, facettenreichen Übersicht gezeigt. Die Gastkuratoren u
 nd Szenografen sind ein Dream Team. Der renommierte St. Galler Stoff-Desig
 ner Martin Leuthold und der Luzerner Textil-Designer und Kostümbildner Ber
 nhard Duss faszinieren mit einer kreativen Szenografie.\n\nMit besten Grüs
 sen\, die Co-Präsidentinnen\nJolanda Trösch und Beatrice Zanga\n\nProgramm
 \n9.45 Uhr\nEintreffen beim Textilmuseum in St.Gallen www.textilmuseum.ch 
 \n10.00 Uhr\nGemeinsamer Brunch und Feier \n12.00 Uhr Kosten\nFührung durc
 h die sinnliche Spitzenausstellung StGall\n\n\nKosten\nCHF 50.00 pro Perso
 n\n\nAnmeldung\nAnmeldung und Einzahlung bis 15.08.2011 · Die Zahlung gilt
  als definitive Anmeldung.\nBitte überweise den Betrag auf unser Konto: IB
 AN CH81 0844 0862 3842 9004 0 bei der Bank Coop in St. Gallen\n\nEinladung
  zum Downloaden  ·  Anmeldeformular zum Downloaden  ·  Anmeldung per Post 
 an: Sekretariat BPW\, c/o africa design travel ag\, Multergasse 11\, 9000 
 St. Gallen\nDu kannst die Anmeldung auch faxen auf: 071 298 90 01 oder per
  E-Mail senden: a.schindler@africadesigntravel.ch
DTSTART:20110903T094500
DTEND:20110903T160000
LOCATION:Textilmuseum\, St. Gallen
ORGANIZER:MAILTO:BPW Switzerland <davos@bpw.ch>
SUMMARY:60 Jahre BPW St. Gallen-Appenzell
END:VEVENT
END:VCALENDAR
