BEGIN:VCALENDAR
VERSION:2.0
PRODID:-//BPW Switzerland//NONSGML kigkonsult.se iCalcreator 2.16.12//
METHOD:PUBLISH
X-MS-OLK-FORCEINSPECTOROPEN:TRUE
BEGIN:VEVENT
UID:20260422T112635CEST-3611rktfis@BPW Switzerland
DTSTAMP:20260422T092635Z
DESCRIPTION:\n\n\n\n\nDie Wissensstadt Davos lädt zum öffentlichen Science 
 Coffee \n\nStammzellenforschung - brauchen wir sie?\nRegenerative Medizin 
 kommt ohne Stammzellenforschung kaum mehr aus. Grosse Hoffnung weckt die B
 ehandlung verschiedener Krebsarten und Erbkrankheiten mit körpereigenen St
 ammzellen. Geht es um «Forschung an embryonalen Stammzellen»\, reagiert di
 e Öffentlichkeit jedoch skeptisch.\n\nEs diskutieren:\n\n    Jürgen Hesch
 eler\, Prof Dr.\, Institut für Neurophysiologie\, Medizinische Fakultät\,
  Klinikum der Universität zu Köln\, Köln\n    Vann Barrandon\, Prof.\, Lab
 oratoire de Dynamique des Cellules Souches (LDCS)\, EPFL et Universite de 
 Lausanne\, Chirurgie experimentale\, CHUV (centre hospitalier universitair
 e vaudois)\, Lausanne\n    Claudio Rhyner\, Dr.\, Molekulare Allergologie\
 , Schweizerisches Institut für Allergie und Asthmaforschung SIAF\, Davos
 \n    Mauro Alini\, Prof.\, PhD\, Leiter des muskuloskeletalen Regeneratio
 ns-Programms\, AO Forschungsinstitut\, AO Foundation\, Davos\n    Frank Ma
 thwig\, PD Dr.\, Institut für Systematische Theologie\, Theologische Faku
 ltät\, Universität Bem\n    Ulrike Schauseil-Zipf\, PD\, Dr. med.\, Oberär
 ztin Neuropädiatrie Sozialpädiatrie\, Klinik und Poliklinik für Allgemein
 e Kinderheilkunde\, Uniklinik Köln\, Köln\n\nModeration: Urs Gredig\, Hist
 oriker lie. phi!.\, Redaktor und Moderator SF Tagesschau\n\nDiskutieren Si
 e mit!\n \nMontag\, 8. August 2011 von 20:00 bis ca. 21 :30\nCafeteria Spi
 tal Davos\n\nDie Veranstaltung ist öffentlich und richtet sich an alle Int
 eressierte.\nEintritt und Apero sind frei.\n
DTSTART:20110808T200000
DTEND:20110808T213000
LOCATION:Spital Davos\, Cafeteria
ORGANIZER:MAILTO:BPW Switzerland <davos@bpw.ch>
SUMMARY:Science Coffee - Stammzellenforschung
END:VEVENT
END:VCALENDAR
