BEGIN:VCALENDAR
VERSION:2.0
PRODID:-//BPW Switzerland//NONSGML kigkonsult.se iCalcreator 2.16.12//
METHOD:PUBLISH
X-MS-OLK-FORCEINSPECTOROPEN:TRUE
BEGIN:VEVENT
UID:20260422T123341CEST-8983FaEza9@BPW Switzerland
DTSTAMP:20260422T103341Z
DESCRIPTION:Einführungsreferat Elsbeth Kluker\, +vffs Expertenbüro Reto Klu
 ker\n\nWie gross ist die Freude beim Kauf eines Autos und wie betrübt ist 
 man bei einem Schaden! Fahrzeugschaden – wie weiter? Fühle ich mich von de
 r Versicherung gut beraten oder habe ich am falschen Ort gespart? Wozu bra
 ucht es den Fahrzeugsachverständigen und wie dient er dem Geschädigten?\n
 \n\nAnmeldedoodle\n\nMit ihrem Einführungsreferat gibt Elsbeth Kluker-Jane
 tt einen Einblick in das Tätigkeitsfeld des Fahrzeugsachverständigen. Das 
 Referat soll dazu beitragen\, bisherige Unklarheiten zu beseitigen und Lic
 ht ins Dunkel des modernen Schadenmanagements zu geben.\n\nProgramm:\n19:0
 0 Uhr Apéro und Treffpunkt Bistro Guggerzyt\n19:30 Uhr Referat Mehrzwecksa
 al\nanschliessend Abendessen im Bistro Guggerzyt\n\nMenu\n\nVorspeisentell
 er mit Köstlichkeiten aus dem Meer und vom Berg\n*****\nRaclette à discret
 ion mit Essiggemüse und Trockenfleisch\nKartoffeln\n*****\nBaby-Ananas mit
  Zitronensorbet\n\nFr. 25.00\n\nDer Anlass selbst ist kostenlos\; der Apér
 o wird von der Referentin offeriert. Essen und Getränke gehen zu Lasten de
 r Teilnehmenden und werden direkt vor Ort in bar beglichen.\n\nParkmöglich
 keiten sind beim Alterszentrum Guggerbach\, Obere Strasse 20\, Davos Platz
 \, nur begrenzt vorhanden. Wer mit dem Bus kommt\, kann den Eingang Promen
 ade (Durchgang gegenüber UBS) benutzen. Lift bis Stockwerk E - Bistro Gugg
 erzyt.\n\nAn-/Abmeldung bis 9. Januar 2012 über:\noder bei Elsbeth Kluker\
 , Handy 079 749 25 27\nAnmeldedoodle\n
DTSTART:20120111T190000
DTEND:20120111T220000
LOCATION:BPW Davos Klosters\, AZ Guggerbach\, Seminarraum
ORGANIZER:MAILTO:BPW Switzerland <davos@bpw.ch>
SUMMARY:Himmelhoch jauchzend - zu Tode betrübt
END:VEVENT
END:VCALENDAR
