BEGIN:VCALENDAR
VERSION:2.0
PRODID:-//BPW Switzerland//NONSGML kigkonsult.se iCalcreator 2.16.12//
METHOD:PUBLISH
X-MS-OLK-FORCEINSPECTOROPEN:TRUE
BEGIN:VEVENT
UID:20260422T143007CEST-7756ooBhV1@BPW Switzerland
DTSTAMP:20260422T123007Z
DESCRIPTION:\nEinladung zur Kerzenlichtfeier\nMittwoch\, 8. Februar 2012\, 
 19.00 Uhr\nGolfclub Restaurant Mattaclub\, Davos Dorf\n\n\nAnmeldedoodle\n
 \nIn unserer Gedankenreise um die Welt verweilen wir auf den Philippinen.
 \n\nDie junge Davoserin Tabea erzählt uns von philippinischen Frauen und i
 hrem Leben\, von Müttern und ihrem Schicksal. Und sie berichtet von ihrem 
 bevorstehenden Praktikumsaufenthalt in diesem Land im Rahmen ihrer Ausbild
 ung zur Hebamme.\n\nBeim Hilfswerk Mercy in Action kann sie einen Teil ihr
 er obligatorischen Berufspraktika absolvieren\, was BPW Davos Klosters unt
 erstützen möchte.\n\n\nProgramm\n19.00 Uhr\nZeremonie im Schnee oder im Cl
 ub (je nach Wetter)\n19.30 Uhr\nApéro und Abendprogramm\n\nWeg\nWenige Par
 kplätze entlang der Mattastrasse und gegenüber Golfhaus. Fahrgemeinschafte
 n sind daher empfohlen.\n\nMenu\nBabyleaf-Salat\nGrüner Thay-Curry mit Pou
 let und viel Gemüse\, Basmatireis\nVegi: Grüner Thay-Curry mit viel Gemüse
 \, Basmatireis\nKokos-Panna-Cotta mit Passionsfrucht Pulpe\n\nPreis\nFleis
 ch CHF 48 - Vegetarisch CHF 42 pro Person\n\nKosten\nDer Anlass selbst ist
  kostenlos. Der Apéro wird vom Club offeriert.\nEssen und Getränke gehen z
 u Lasten der Teilnehmerinnen und werden vom Restaurant einkassiert.\n\nAnm
 eldung\nbis Montag\, 6. Februar 2012\nüber den Anmeldedoodle\noder an Elsb
 eth Kluker\nMobile 079 749 25 27\nAnmeldedoodle\n
DTSTART:20120208T190000
DTEND:20120208T220000
LOCATION:Davos Dorf\, Restaurant Golfclub
ORGANIZER:MAILTO:BPW Switzerland <davos@bpw.ch>
SUMMARY:Kerzenlichtfeier - Wir stellen vor ...
END:VEVENT
END:VCALENDAR
