BEGIN:VCALENDAR
VERSION:2.0
PRODID:-//BPW Switzerland//NONSGML kigkonsult.se iCalcreator 2.16.12//
METHOD:PUBLISH
X-MS-OLK-FORCEINSPECTOROPEN:TRUE
BEGIN:VEVENT
UID:20260422T115107CEST-2891GIeidM@BPW Switzerland
DTSTAMP:20260422T095107Z
DESCRIPTION:\nHerzliche Einladung zur\n56. Mitgliederversammlung\n\nam 21. 
 März 2012 im Hotel Alpina in Klosters\nBeginn: 19.45 Uhr\n\nDie Einladung 
 mit Traktandenliste und den Sitzungsunterlagen werden per Post zugestellt.
  Sie stehen aber auch im Memberbereich zum Download bereit.\n\n\n\n \nZugt
 ransfer\nDas Hotel Alpina liegt direkt gegenüber vom Bahnhof Klosters Plat
 z.\nDer Transfer ist daher auch mit dem Zug möglich.\n\nHinfahrt\nDavos Pl
 atz/Dorf ab: 19.02/19.06 Uhr\nKlosters Platz an: 19.28 Uhr\n\nRückfahrt\nK
 losters Platz ab: 22.30 Uhr bzw. 23.30 Uhr\nDavos Dorf/Platz an: 22.53/22.
 57 Uhr bzw. 23.53/23.57 Uhr\n \nAutotransfer\nTreffpunkt: 18.50 Uhr – Unol
 d-Parkplatz\, Davos Dorf\nUnkostenbeitrag für Mitfahrerinnen 5.-\nBitte be
 i der Anmeldung vermerken\, wenn Autotransfer gewünscht wird.\n\nDer Vorst
 and dankt für pünktliches Erscheinen!\n \nIm Anschluss an die Vereinsgesch
 äfte\nSnacks ab Buffet\nCHF 25.- p.P.\nplus Getränke\n \nAn- und Abmeldung
 en\nbis spätestens Montag\, 19. März 2012\,\nüber unseren Anmeldedoodle\na
 n Tel. 079 749 25 27\, Elsbeth Kluker\nAnmeldedoodle\n
DTSTART:20120321T193000
DTEND:20120321T223000
LOCATION:BPW Davos Klosters\, Hotel Alpina\, Klosters
ORGANIZER:MAILTO:BPW Switzerland <davos@bpw.ch>
SUMMARY:Mitgliederversammlung 2012
END:VEVENT
END:VCALENDAR
