BEGIN:VCALENDAR
VERSION:2.0
PRODID:-//BPW Switzerland//NONSGML kigkonsult.se iCalcreator 2.16.12//
METHOD:PUBLISH
X-MS-OLK-FORCEINSPECTOROPEN:TRUE
BEGIN:VEVENT
UID:20260422T112614CEST-3807rHlu9a@BPW Switzerland
DTSTAMP:20260422T092614Z
DESCRIPTION:Einladung zum Ethik Forum des Rotary Clubs Chur-Herrschaft\nDon
 nerstag\, 17. November 2011\nan der Hochschule für Technik und Wirtschaft 
 (HTW) \, Pulvermühlestrasse 57\, Chur\nTeilnahmegebühr: Keine\n\nVeranstal
 tung des\nRotary Clubs Chur-Herrschaft unter dem Patronat der\nSchweizeris
 chen Akademie der Technischen Wissenschaften SATW\n\nAnmeldungen bis 31. O
 ktober 2011\nbitte direkt an den Veranstalter gemäss den Angaben auf dem E
 inladungsflyer\noder online: http://ethikforum.wordpress.com/\n\nBitte um 
 Orientierungsmail für die allfällige Organisation von Fahrgemeinschaften a
 b/nach Davos/Klosters an\nursula.schmid@bpw-davosklosters.ch\n\n\n
DTSTART:20111117T160000
DTEND:20111117T200000
LOCATION:Rotary Club Chur-Herrschaft\, Chur\, HTW
ORGANIZER:MAILTO:BPW Switzerland <davos@bpw.ch>
SUMMARY:Wirtschaftsethik und Neue Medien
END:VEVENT
END:VCALENDAR
