BEGIN:VCALENDAR
VERSION:2.0
PRODID:-//BPW Switzerland//NONSGML kigkonsult.se iCalcreator 2.16.12//
METHOD:PUBLISH
X-MS-OLK-FORCEINSPECTOROPEN:TRUE
BEGIN:VEVENT
UID:20260422T103051CEST-2510rbF7V3@BPW Switzerland
DTSTAMP:20260422T083051Z
DESCRIPTION:\nLiebe Youngs\, liebe Interessentinnen\, liebe BPW!\nIn diesem
  Jahr ist der Name Programm\, denn unser Young BPW Networking Day steht un
 ter dem Motto: 'Contacts Count - Develop your Professional Networking Comp
 etence!'. Am 4. Februar in Luzern erwartet die Teilnehmerinnen ein spannen
 des Programm mit tollen Referentinnen und jeder Menge Gelegenheit zum Netz
 werken.\nIch freue mich darauf\, Euch in Luzern zu treffen!\nHerzliche Grü
 sse\nSusanne\n\nSusanne Tiedtke\nMember of the Central Board\nBusiness & P
 rofessional Women Switzerland Division Young BPW\nTel: +41 78 625 19 48\n
 \n\nAm Young BPW Weekend 2011\n\nYoung BPW Network Day 2012\nContacts Coun
 t – Develop your Professional Networking Competence!\nOur world is on the 
 move. The ability to stay in contact with others is crucial for your profe
 ssional success and career. However\, many “friends” on facebook does not 
 necessarily mean a personal network of resilient relationships. Build-up a
 nd foster a value adding professional network is an art which requires mor
 e than collecting business cards. You need to systematically connect to th
 e right people who are convenient\, beneficial and inspiring for your indi
 vidual life.\n\nThe Young BPW Network Day will support you in becoming a c
 onfident and effective networker by offering business networking tips\, te
 chniques and lots of ad- hoc training opportunities.\n\n\n\nSaturday\, Feb
 ruary 4\, 2012\, 9.30 to 17.00 \nHotel Continental-Park\, in Luzern\n\nCon
 ference package (including coffee breaks and lunch)\nCHF 120  BPW members 
 \nCHF 160  Guests \nCHF 100  Students (copy of student ID required)\n\nReg
 istration on www.bpw.ch\n  \nRegistrations are final. After your applicati
 on the invoice will be sent to you by mail within the next few days. An ad
 ministrative fee of CHF 30 will be charged for cancellations made by Janua
 ry 28. The entire fee is due in the case of late cancellations (as of Janu
 ary 29) or no- shows.\n\nMitglieder von BPW Davos Klosters bitten wir\, Ih
 re Anmeldung auch auf unserem Doodle einzutragen\, so dass Fahrgemeinschaf
 ten gebildet werden können. \n> Anmeldedoodle Davos Klosters\n\n\n\nProgra
 mm\n09.30-10.00\nRegistration an d welcome coffee\n\n10.00-10.15\nWelcome 
 address\n\n10.15-12.15\nEffective Networking – Develop Strong Relations\nS
 abine E. Baerlocher\, Active Relocation\nsabine@active-relocation.com\nThi
 s interactive workshop will help you get comfortable in any networking sit
 uation and make sure you will do the appropriate follow up in order to bui
 ld up successful\, value adding relationships. Find out tips and tricks fo
 r effective networking from self presentation to small talk and dress code
 .\n\n12.15-13.30\nNetworking Lunch\n\n13.30-14.30\nThe World in a Nutshell
  – the Global BPW Network\nMiette Dechelle\, Young BPW Europe Representati
 ve\nmiette.dechelle@bpw-europe.org\nBeing a BPW member means access to nea
 rly inexhaustible sources of networking. Learn more about the Internationa
 l aspect of our BPW network\, opportunities and upcoming events.\n\n14.30-
 17.00\nBusiness Flirt – Make Your Body Language Work for you\nAntoinette A
 ngeregg\, apriori image & communication\ncontact@apriori.ch\nWhat do flirt
 ing and networking have in common? Showing interest\, get in contact\, mak
 e a good impression and potentially developing a sustainable relationship.
  Learn how to “conquer” a room and intentionally employ your body language
  according to your network objective.\n\nIncluding 30 min Networking Coffe
 e Break\n\n17.00\nClosing address and end of event\n\n\n\n
DTSTART:20120204T080000
DTEND:20120204T170000
LOCATION:Luzern
ORGANIZER:MAILTO:BPW Switzerland <davos@bpw.ch>
SUMMARY:Young BPW Network Day
END:VEVENT
END:VCALENDAR
