BEGIN:VCALENDAR
VERSION:2.0
PRODID:-//BPW Switzerland//NONSGML kigkonsult.se iCalcreator 2.16.12//
METHOD:PUBLISH
X-MS-OLK-FORCEINSPECTOROPEN:TRUE
BEGIN:VEVENT
UID:20260422T114400CEST-2998S9440r@BPW Switzerland
DTSTAMP:20260422T094400Z
DESCRIPTION:Frauen im Management - Vielfalt erleben!\n\nHotelzimmerreservat
 ion \nKontingente unter dem Stichwort 'BPW' reserviert bis 10.02.2012 \nim
  Hotel Bayerischer Hof und Reutemann/Seegarten\n\nInformationen auf dem Fl
 yer im Anhang.\n\n\n\n\n
DTSTART:20120504T140000
DTEND:20120506T170000
LOCATION:Lindau
ORGANIZER:MAILTO:BPW Switzerland <davos@bpw.ch>
SUMMARY:D-A-CH-Tagung in Lindau
END:VEVENT
END:VCALENDAR
