BEGIN:VCALENDAR
VERSION:2.0
PRODID:-//BPW Switzerland//NONSGML kigkonsult.se iCalcreator 2.16.12//
METHOD:PUBLISH
X-MS-OLK-FORCEINSPECTOROPEN:TRUE
BEGIN:VEVENT
UID:20260422T103117CEST-5756Sfo2b1@BPW Switzerland
DTSTAMP:20260422T083117Z
DESCRIPTION:\nInformationen und Anmeldung auf der Webseite von BPW Switzerl
 and.\n\nBitte Anmeldung auch auf diesem Doodle bei BPW Davos Klosters eint
 ragen!\n\n\n\n\n
DTSTART:20120616T090000
DTEND:20120616T170000
LOCATION:Zürich
ORGANIZER:MAILTO:BPW Switzerland <davos@bpw.ch>
SUMMARY:BPW Switzerland Delegiertenversammlung
END:VEVENT
END:VCALENDAR
