BEGIN:VCALENDAR
VERSION:2.0
PRODID:-//BPW Switzerland//NONSGML kigkonsult.se iCalcreator 2.16.12//
METHOD:PUBLISH
X-MS-OLK-FORCEINSPECTOROPEN:TRUE
BEGIN:VEVENT
UID:20260422T133022CEST-5792L63tj3@BPW Switzerland
DTSTAMP:20260422T113022Z
DESCRIPTION:Der XIV  European Congress of BPW international findet in Sorre
 nto/Italien statt. Sonja U. Müller Lang von Women Travel\, Mitglied von BP
 W Zürich\, organisiert die Reise nach Sorrento. Wer Interesse an der  geme
 insamen Reise zu guten Konditionen hat\, melde sich raschmöglichst  direkt
  bei Sonja U. Müller Lang! \n\nAbflug: Freitag\, 28.09.2012\nRückflug: Son
 ntag\, 30.09.2012\n\nAlle Details finden Sie hier:\n\nOfferte Flugbuchung
 \nAnmeldeformular\n\n\n\n\nSorrento Hilton Palace\, Terrasse mit Blick auf
  Vesuv\n
DTSTART:20120928T100000
DTEND:20120930T160000
LOCATION:Sorrento - IT
ORGANIZER:MAILTO:BPW Switzerland <davos@bpw.ch>
SUMMARY:BPW European Congress
END:VEVENT
END:VCALENDAR
