BEGIN:VCALENDAR
VERSION:2.0
PRODID:-//BPW Switzerland//NONSGML kigkonsult.se iCalcreator 2.16.12//
METHOD:PUBLISH
X-MS-OLK-FORCEINSPECTOROPEN:TRUE
BEGIN:VEVENT
UID:20260422T130835CEST-6893mklviU@BPW Switzerland
DTSTAMP:20260422T110835Z
DESCRIPTION: \nFit For Business - Gipfeltreffen in Davos\n\nvom 12. - 14. O
 ktober 2012\nVeranstaltungsprogramm zum Download\n\nAlle Informationen und
  den Link zur Online-Anmeldung finden Sie auf den speziellen Seiten zur He
 rbstkonferenz.\n\n\nLassen Sie sich verlocken zu einem verlängerten Wochen
 ende in Davos:\nProfitieren Sie von den Workshops am Freitagnachmittag\, l
 assen Sie sich inspirieren am Podiumsgspräch mit den interessanten Gespräc
 hsteilnehmern\, erleben Sie die Modeschau und das Dinner Concert am Samsta
 gabend und fahren Sie mit uns hinauf zum Gipfelbrunch auf Parsenn!\n\n 
DTSTART:20121012T130000
DTEND:20121014T140000
LOCATION:Davos
ORGANIZER:MAILTO:BPW Switzerland <davos@bpw.ch>
SUMMARY:BPW Switzerland Herbstkonferenz
END:VEVENT
END:VCALENDAR
