BEGIN:VCALENDAR
VERSION:2.0
PRODID:-//BPW Switzerland//NONSGML kigkonsult.se iCalcreator 2.16.12//
METHOD:PUBLISH
X-MS-OLK-FORCEINSPECTOROPEN:TRUE
BEGIN:VEVENT
UID:20260422T101316CEST-2288UR4eUn@BPW Switzerland
DTSTAMP:20260422T081316Z
DESCRIPTION:\nÜber Frauenbilder\n \nTanz zwischen Frauen\n\nKirchner Museum
  Davos\nDonnerstag\, 8. März 2012 - 19.00 Uhr\n\nFührung - Performance - A
 péro\n\n\n\nEine Veranstaltung des Kirchner Museums Davos in Zusammenarbei
 t mit den Frauenorganisationen Davos und unter Mitwirkung von Schülerinnen
  und Lehrerinnen der SAMD Schweiz. Alpinen Mittelschule Davos\n\n \n \nEin
 tritt\, Führung und Apéro:\nCHF 20.00 für Mitglieder der Davoser Frauenorg
 anisationen\nCHF 15.00 für Schüler\n \nZum Anmeldedoodle\n \n\nInternation
 aler Tag der Frau\nDer Internationale Tag der Frau (International Women‘s 
 Day) wird weltweit von Frauenorganisationen am 8. März begangen. Er entsta
 nd im Kampf um Gleichberechtigung und das Wahlrecht für Frauen und kann au
 f eine lange Tradition zurückblicken - dieses Jahr wird er zum 101. Mal ge
 feiert.\n\nDie Davoser Frauenorganisationen haben sich zum Ziel gesetzt\, 
 am Internationalen Tag der Frau jeweils eine gemeinsame Veranstaltung durc
 hzuführen\, die den Kontakt und das Gespräch unter den Frauen fördert.\n 
 \nBlack Diamonds\nSAMD - Dance Performance\nMitwirkende SAMD: Daniela Ambü
 hl-Losa - Raphaela Binz - Michelle Eigenmann und die „Black Diamonds“\n \n
 Davoser Frauenorganisationen\nBündnerinnen Vereinigung\nBPW Davos Klosters
 \nFrauenbund\nKath. Frauenverein\nSchweiz. Gemeinnütziger Frauenverein\n\n
 \nAnmeldungen bis Dienstag\, 6. März 2012\nAnmeldungen der Mitglieder der 
 Frauenorganisationen sind aus organisatorischen Gründen erwünscht an die C
 lubpräsidentinnen oder über den Anmeldedoodle.
DTSTART:20120308T190000
DTEND:20120308T220000
LOCATION:Davos Platz\, Kirchner Museum
ORGANIZER:MAILTO:BPW Switzerland <davos@bpw.ch>
SUMMARY:Internationaler Tag der Frau
END:VEVENT
END:VCALENDAR
