BEGIN:VCALENDAR
VERSION:2.0
PRODID:-//BPW Switzerland//NONSGML kigkonsult.se iCalcreator 2.16.12//
METHOD:PUBLISH
X-MS-OLK-FORCEINSPECTOROPEN:TRUE
BEGIN:VEVENT
UID:20260422T113528CEST-5253eK7H0C@BPW Switzerland
DTSTAMP:20260422T093528Z
DESCRIPTION:\nCorinne Gut Klucker empfängt auf dem Sofa Mitglieder aus unse
 rem Club\, die vor etlichen Jahren als Geschäftsfrauen tätig waren.\nIm Ge
 spräch gehen sie der Frage nach\, was sich in der Situation der Berufs- un
 d Geschäftsfrau in den letzten Jahren geändert hat.\n\n\n\nProgramm\n19.00
  Uhr\nBegrüssung und Sofagespräch im Foyer\nanschliessend Essen im Bistro 
 Guggerzyt\n\nMenu\nCHF 25.-\, Getränke separat\n\nKleiner Salat\n***\nPast
 etli mit Lachs- Spargelfüllung und Reis\noder\nSpargelrisotto mit Parmesan
 \n***\nErdbeertörtli\n\nKosten\nDer Anlass selber ist kostenlos. Essen und
  Getränke gehen zu Lasten der Teilnehmenden und werden direkt vor Ort in b
 ar beglichen.\n\nAnmeldungen\nbis spätestens Osterdienstag\, 10. April 201
 2\,\nüber den Anmeldedoodle \nan Elsbeth Kluker per Mail oder über Telefon
  079 749 25 27\n\nAnmeldedoodle\n
DTSTART:20120411T190000
DTEND:20120411T223000
LOCATION:BPW Davos Klosters\, AZ Guggerbach\, Davos Platz
ORGANIZER:MAILTO:BPW Switzerland <davos@bpw.ch>
SUMMARY:Sofagespräch - Geschäftsfrau gestern
END:VEVENT
END:VCALENDAR
