BEGIN:VCALENDAR
VERSION:2.0
PRODID:-//BPW Switzerland//NONSGML kigkonsult.se iCalcreator 2.16.12//
METHOD:PUBLISH
X-MS-OLK-FORCEINSPECTOROPEN:TRUE
BEGIN:VEVENT
UID:20260422T103139CEST-3268VbthV7@BPW Switzerland
DTSTAMP:20260422T083139Z
DESCRIPTION:\nIn Abänderung des gedruckten Programmes besuchen wir gemeinsa
 m den Mai-Clubabend von BPW Rheintal mit dem Referat von Annette Beichl Ha
 sler\, Mediatorin und Dozentin\, zum Thema\n \nDie Kunst des Nein-Sagens\n
  \nIst es wirklich eine Kunst „nein“ zu sagen? Warum fällt es manchen schw
 er\, anderen leichter?\nWelche Menschen wollen auf Angebote\, Zusatzjobs\,
  Aufträge und auf das Erledigen von kleinen Gefälligkeiten für ihre Mitmen
 schen nicht verzichten? Sind es die hilflosen Helfenden\, sind es die erfo
 lgreichen Lebemenschen\, die lustvoll an die eigenen Grenzen gehen?\nIst e
 s einfach ein Zeichen der Zeit\, mit einer übervollen Agenda zu leben\, ei
 n Charakteristikum unserer „Zuvielisation“? Und wer hat den Nutzen?\n\nPro
 gramm\n19.00 Uhr\nEintreffen im Restaurant Traube in Buchs/SG\n19.15 Uhr\n
 Referat von Annette Beichl Hasler\, Mediatorin und Dozentin\nca. 20.15 Uhr
 \nAbendessen\nab ca. 21.15 Uhr\nZusammenfassung der Diskussion\nca. 22.00 
 Uhr\nSchluss\n\nMenu\nFisch-Menu CHF 35\nGrüner Blattsalat mit einigen Spr
 ossen\nEglifilets an Zitronenbutter\, Reis und Gemüsebeilage\nVegi-Menu CH
 F 33\nGrüner Blattsalat mit einigen Sprossen oder Suppe\nGemüserisotto\n\n
 Organisatorisches\nWir bilden Fahrgemeinschaften und organisieren diese üb
 er den Anmeldedoodle. Bitte die Anmeldung daher unbedingt über den Anmelde
 doodle von BPW Davos Klosters vornehmen (nicht über die Anmeldung bei BPW 
 Rheintal) und alle Optionen ausfüllen. Abfahrt in Davos ist um 17.45 Uhr.
 \n\nKosten\nDer Anlass selber ist kostenlos. Essen und Getränke gehen zu L
 asten der Teilnehmenden und werden direkt vor Ort in bar beglichen.\nMitfa
 hrplatz pro Weg 4.- (retour 8.-)\, zahlbar jeweils direkt an die Fahrerin.
 \n\nAnmeldungen\nbis spätestens Donnerstag\, 3. Mai 2012\,\nüber den Anmel
 dedoodle \n\nan Elsbeth Kluker per Mail oder über Telefon 079 749 25 27\n
 \nAnmeldedoodle\n \n
DTSTART:20120508T190000
DTEND:20120508T220000
LOCATION:BPW Rheintal\, Buchs\, Rest. Traube
ORGANIZER:MAILTO:BPW Switzerland <davos@bpw.ch>
SUMMARY:Die Kunst des Nein-Sagens
END:VEVENT
END:VCALENDAR
