BEGIN:VCALENDAR
VERSION:2.0
PRODID:-//BPW Switzerland//NONSGML kigkonsult.se iCalcreator 2.16.12//
METHOD:PUBLISH
X-MS-OLK-FORCEINSPECTOROPEN:TRUE
BEGIN:VEVENT
UID:20260422T130931CEST-2471wK18vp@BPW Switzerland
DTSTAMP:20260422T110931Z
DESCRIPTION:Das Sommerstrassenfest auf der Flaniermeile von Davos\n\nWir tr
 effen uns am Stand von BPW Davos Klosters an der offenen Promenade am\nFre
 itag\, 13. Juli 2012\, 18.00 bis 23.00 Uhr\,\nvor Elektro Caviezel\, Prome
 nade 48\n\n\nDer Abend des 13. Juli steht ganz im Zeichen von Davos Sounds
  Good\, mit Jazzkonzerten auf dem Arkadenplatz und den traditionellen Stre
 etparades.\nAm Stand von BPW Davos Klosters geniessen wir in gemütlicher R
 unde ein Cüpli und Empanadas!\n\nUnd mit etwas Glück kannst Du Dir Dein Cü
 pli erwürfeln!\n\n\n\nFoto: www.davos.ch\n\n\n 
DTSTART:20120713T170000
DTEND:20120713T230000
LOCATION:BPW Davos Klosters
ORGANIZER:MAILTO:BPW Switzerland <davos@bpw.ch>
SUMMARY:bpw@promenade
END:VEVENT
END:VCALENDAR
