BEGIN:VCALENDAR
VERSION:2.0
PRODID:-//BPW Switzerland//NONSGML kigkonsult.se iCalcreator 2.16.12//
METHOD:PUBLISH
X-MS-OLK-FORCEINSPECTOROPEN:TRUE
BEGIN:VEVENT
UID:20260422T130758CEST-4921JATJ6V@BPW Switzerland
DTSTAMP:20260422T110758Z
DESCRIPTION:Sommerhappening\n\nMittwoch\, 15. August 2012\, 08.00 Uhr bis M
 ittagessen\nSHIMA\, Dischmastrasse 63\, Davos Dorf\n\nDer Pilzkontrolleur 
 gibt uns einen Einblick in die Mykologie (Pilzkunde) und deren Vielfältigk
 eit. Die gesammelten Pilze werden unter der kundigen Anleitung bestimmt un
 d die Erkennungsmerkmale zu viel verwechselten Pilzen erläutert.\n\nDer Pi
 lzspaziergang findet bei jedem Wetter statt.\n\n\n\n\n\nProgramm\n08.00 Uh
 r\nTreffen und Abmarsch beim SHIMA\n12.00 Uhr\nGemeinsames Kochen und Geni
 essen der gesammelten Pilze im SHIMA\n\nMenu\nPilztoast\nmit Sommersalat\n
 CHF 15.–\n\nMitbringen \nWanderschuhe\, Rucksack\, Sackmesser\,\nPilzsack 
 / -tasche (Stoff)\, Getränk und Zwischenverpflegung\,\nWanderstock\n\nKost
 en\nDer Anlass selber ist kostenlos. Essen und Getränke gehen zu Lasten de
 r Teilnehmenden und werden direkt vor Ort in bar beglichen.\n\n\n\n\n\nAnm
 eldung\nbis Montag\, 13. August 2012\nüber den Anmeldedoodle\noder an elsb
 eth.kluker@bpw-davosklosters.ch\noder über 079 749 25 27\n\nAnmeldedoodle
 \n
DTSTART:20120815T080000
DTEND:20120815T140000
LOCATION:BPW Davos Klosters\, Shima
ORGANIZER:MAILTO:BPW Switzerland <davos@bpw.ch>
SUMMARY:Giftig oder nicht?
END:VEVENT
END:VCALENDAR
