BEGIN:VCALENDAR
VERSION:2.0
PRODID:-//BPW Switzerland//NONSGML kigkonsult.se iCalcreator 2.16.12//
METHOD:PUBLISH
X-MS-OLK-FORCEINSPECTOROPEN:TRUE
BEGIN:VEVENT
UID:20260422T130804CEST-4138LpEuvb@BPW Switzerland
DTSTAMP:20260422T110804Z
DESCRIPTION:\n\nAnmeldedoodle\n\nBPW Südostschweiz Regionaltreffen\nClubs C
 hur\, Davos\, Engadin\,\nGlarus\, Rheintal und Rapperswil\n\nMontag\, 10. 
 September 2012\nOrt: Restaurant Rathaus Rapperswil\nZeit: 18.00 \n\nWir vo
 m Club aus der Rosenstadt Rapperswil freuen uns\, dieses Jahr zum BPW Regi
 onaltreffen einladen zu dürfen. Um 18.00 erwartet Euch ein Apéro mit ein p
 aar Häppchen hoffentlich bei schönstem Wetter vor dem Rathaus.\n\nUm 18.30
  bitten wir dann Platz zu nehmen im altehrwürdigen Rathaussaal mit Blick a
 uf die Altstadt. Es darf herzhaft gelacht werden. Vor dem Essen kommen wir
  in den Genuss eines Lach-Seminars von Christian Hablützel. Es ist zu hoff
 en\, dass danach unsere Bauchmuskulatur noch fähig ist zu essen.\n\nDie Pa
 uschale für Apéro\, Lach-Seminar\, Essen\, inkl. Mineral und Café beträgt 
 Fr. 50.-. Wir bitten jede Teilnehmerin\, den Betrag passend mitzunehmen\, 
 damit wir vor Ort einkassieren können.\n\nWir freuen uns auf ein reges Net
 zwerken mit viel Lachen.\n\nPia Hager Präsidentin\nClub Rapperswil\n\n\nOr
 ganisatorisches für BPW Davos Klosters\nWir bilden Fahrgemeinschaften\, bi
 tte um Angaben (Fahrerin/Mitfahrerin) bei der Anmeldung. Abfahrt in Davos:
  16.00 Uhr\n\n\nAn-/Abmeldungen bis 30. August 2012 \nan BPW Davos Kloster
 s über den Anmeldedoodle\noder per Mail an Elsbeth K.\n\nAnmeldedoodle\n\n
 \n\n\n\n\n\n 
DTSTART:20120910T180000
DTEND:20120910T220000
LOCATION:Rapperswil
ORGANIZER:MAILTO:BPW Switzerland <davos@bpw.ch>
SUMMARY:BPW Südostschweiz Regionaltreffen
END:VEVENT
END:VCALENDAR
