BEGIN:VCALENDAR
VERSION:2.0
PRODID:-//BPW Switzerland//NONSGML kigkonsult.se iCalcreator 2.16.12//
METHOD:PUBLISH
X-MS-OLK-FORCEINSPECTOROPEN:TRUE
BEGIN:VEVENT
UID:20260422T115106CEST-4211UPjgG9@BPW Switzerland
DTSTAMP:20260422T095106Z
DESCRIPTION:Einführungsreferat von Madlaina Fausch\, Primarlehrerin/Wellnes
 sberaterin\n\nMIttwoch\, 14. November 2012\, 19.00 Uhr\nHotel/Restaurant W
 alserhuus\, Sertig\n\n\nAnmeldedoodle\nWir alle möchten gesund sein und bl
 eiben. Was können wir selbst dazu beitragen? Was ist wirklich entscheidend
 ?\n \nProgramm\n19.00 Uhr\nApéro im Schwingerstübli im Walserhuus im Serti
 g\nAnschliessend Referat und Nachtessen\n \nMenu\nWildgeschnetzeltes an Co
 gnacrahmsauce mit Spätzli oder Polenta\nVegi:\nHerbstlicher Vegi-Teller mi
 t Polenta oder Spätzli\nFr. 25.00\n \nKosten\nDer Anlass selber ist kosten
 los. Essen und Getränke gehen zu Lasten der Teilnehmenden und werden direk
 t vor Ort in bar beglichen.\n \nWeg\nWir bilden Fahrgemeinschaften. Bitte 
 bei der Anmeldung eintragen\, ob ein Mitfahrplatz gewünscht wird.\n \nAnme
 ldung\nbis Montag\, 12. November 2012\nüber denAnmeldedoodle\nper Mail an 
 Elsbeth Kluker\noder Telefon 079 749 25 27\nAnmeldedoodle\n
DTSTART:20121114T190000
DTEND:20121114T223000
LOCATION:BPW Davos Klosters\, Walserhuus\, Sertig
ORGANIZER:MAILTO:BPW Switzerland <davos@bpw.ch>
SUMMARY:Die 5 Säulen des Wohlbefindens
END:VEVENT
END:VCALENDAR
