BEGIN:VCALENDAR
VERSION:2.0
PRODID:-//BPW Switzerland//NONSGML kigkonsult.se iCalcreator 2.16.12//
METHOD:PUBLISH
X-MS-OLK-FORCEINSPECTOROPEN:TRUE
BEGIN:VEVENT
UID:20260422T115153CEST-5343ge0jUI@BPW Switzerland
DTSTAMP:20260422T095153Z
DESCRIPTION:\nEnglische Weihnachten im Restaurant Höhwald\, Klosters-Monbie
 l\nMittwoch\, 12.12.12\, \n19.00 Uhr Abfahrt Casparis-Parkplatz Klosters\n
 \n\n \nAnmeldedoodle \n\nProgramm\n19.00 Uhr\nAbfahrt Casparis-Parkplatz i
 n Klosters\nBustransfer zum Restaurant Höhwald\, Klosters-Monbiel\n19.15 U
 hr\nIn the snow: Mulled cider with roasted chestnuts\nanschliessend Englis
 che Weihnachten im Restaurant\n\nSpecial Guest Tabea berichtet von ihrem P
 raktikum auf den Philippinen.\n \nMenu\nMeat:\nClear soup with mutton meat
  and barley\nStuffed turkey with Brussels sprouts\,\nred cabbage\, roast p
 otatoes\, and\nCranberry Sauce\nVariation of English desserts\nFr. 55.—\n
 \nVegetarian:\nTomatosoup\nPumpkin ravioli with pumpkin mousse\nVariation 
 of English desserts\nFr. 49.00\n \nKosten\nDer Anlass selber ist kostenlos
 . Essen und Getränke gehen zu Lasten der Teilnehmenden und werden direkt v
 or Ort in bar beglichen.\n \nWeg\nWir bilden Fahrgemeinschaften. Bitte bei
  der Anmeldung eintragen\, ob ein Mitfahrplatz gewünscht wird. Ab Klosters
  wird der Transfer mehrheitlich mit dem Hotelbus erfolgen. Mitfahrerinnen 
 zahlen den Fahrerinnen einen Beitrag von 5.- für den Transport.\n \nAnmeld
 ung \nbis Montag\, 10. Dezember 2012\nüber den Anmeldedoodle \nper Mail an
  Elsbeth Kluker\noder Telefon 079 749 25 27\n\n 
DTSTART:20121212T190000
DTEND:20121212T230000
LOCATION:BPW Davos Klosters\, Rest. Höhwald\, Monbiel
ORGANIZER:MAILTO:BPW Switzerland <davos@bpw.ch>
SUMMARY:A merry Christmas!
END:VEVENT
END:VCALENDAR
